BEGIN:VCALENDAR
VERSION:2.0
PRODID:-//wp-events-plugin.com//7.2.3.1//EN
BEGIN:VEVENT
UID:34@rumbaysoul.com
DTSTART:20260314T210000Z
DTEND:20260315T000000Z
DTSTAMP:20260309T014608Z
URL:https://rumbaysoul.com/events/rumba-y-soul-nomada/
SUMMARY:Rumba y Soul @ Nomada
DESCRIPTION:[caption id="attachment_1076" align="alignnone" width="300"] Ru
 mba y Soul[/caption]
ATTACH;FMTTYPE=image/jpeg:https://i0.wp.com/rumbaysoul.com/wp-content/uplo
 ads/2024/04/cropped-cropped-RyS-Logo-NO-BONE-1.png?fit=512%2C448&ssl=1
CATEGORIES:Live Performance
LOCATION:Nomada\, 6996 El Camino Real\, Carlsbad\, CA\, 92009\, United Stat
 es
X-APPLE-STRUCTURED-LOCATION;VALUE=URI;X-ADDRESS=6996 El Camino Real\, Carls
 bad\, CA\, 92009\, United States;X-APPLE-RADIUS=100;X-TITLE=Nomada:geo:0,0
END:VEVENT
END:VCALENDAR